BEGIN:VCALENDAR
VERSION:2.0
PRODID:-//Providence University College and Theological Seminary - ECPv6.15.17.1//NONSGML v1.0//EN
CALSCALE:GREGORIAN
METHOD:PUBLISH
X-ORIGINAL-URL:https://www.prov.ca
X-WR-CALDESC:Events for Providence University College and Theological Seminary
REFRESH-INTERVAL;VALUE=DURATION:PT1H
X-Robots-Tag:noindex
X-PUBLISHED-TTL:PT1H
BEGIN:VTIMEZONE
TZID:America/Winnipeg
BEGIN:DAYLIGHT
TZOFFSETFROM:-0600
TZOFFSETTO:-0500
TZNAME:CDT
DTSTART:20240310T080000
END:DAYLIGHT
BEGIN:STANDARD
TZOFFSETFROM:-0500
TZOFFSETTO:-0600
TZNAME:CST
DTSTART:20241103T070000
END:STANDARD
BEGIN:DAYLIGHT
TZOFFSETFROM:-0600
TZOFFSETTO:-0500
TZNAME:CDT
DTSTART:20250309T080000
END:DAYLIGHT
BEGIN:STANDARD
TZOFFSETFROM:-0500
TZOFFSETTO:-0600
TZNAME:CST
DTSTART:20251102T070000
END:STANDARD
BEGIN:DAYLIGHT
TZOFFSETFROM:-0600
TZOFFSETTO:-0500
TZNAME:CDT
DTSTART:20260308T080000
END:DAYLIGHT
BEGIN:STANDARD
TZOFFSETFROM:-0500
TZOFFSETTO:-0600
TZNAME:CST
DTSTART:20261101T070000
END:STANDARD
END:VTIMEZONE
BEGIN:VEVENT
DTSTART;TZID=America/Winnipeg:20250320T120000
DTEND;TZID=America/Winnipeg:20250320T133000
DTSTAMP:20260424T060507
CREATED:20250210T155959Z
LAST-MODIFIED:20250210T173210Z
UID:21690-1742472000-1742477400@www.prov.ca
SUMMARY:Seminary Symposium (Winter)
DESCRIPTION:Day/Time: Thursday\, March 20th @ noon to 1:30pm \nSpeaker: Layton Friesen\, Academic Dean\, Steinbach Bible College \nLocation: South Howison Room\, Student Life Centre\, Providence \nPresentation: “Harry Friesen Was Right: How Old-School Mennonite Non-Resistance Could Still Save Christian Ethics.” \nDescription: In this talk Friesen will make the impossible point that the old non-resistance that was abandoned in the 1950’s by all assimilated Mennonites in southern Manitoba had a spiritual furnace that no evangelism\, relief work\, social-justice warring\, militarism\, anti-bullying\, etc\, has ever managed to replace. By doing this\, he thinks he can demonstrate why modern ethics is so polarizing. \nThis event is FREE and open to the public. Zoom option is also available. Registration is required for in-person or online attendance. \nREGISTER HERE. \n 
URL:https://www.prov.ca/event/seminary-symposium-winter/
LOCATION:Reimer Student Life Centre\, 10 College Cres\, Otterburne\, Manitoba\, R0A 1G0\, Canada
CATEGORIES:Featured Event,Seminary
END:VEVENT
END:VCALENDAR