BEGIN:VCALENDAR
VERSION:2.0
PRODID:-//Providence University College and Theological Seminary - ECPv6.15.17.1//NONSGML v1.0//EN
CALSCALE:GREGORIAN
METHOD:PUBLISH
X-WR-CALNAME:Providence University College and Theological Seminary
X-ORIGINAL-URL:https://www.prov.ca
X-WR-CALDESC:Events for Providence University College and Theological Seminary
REFRESH-INTERVAL;VALUE=DURATION:PT1H
X-Robots-Tag:noindex
X-PUBLISHED-TTL:PT1H
BEGIN:VTIMEZONE
TZID:America/Winnipeg
BEGIN:DAYLIGHT
TZOFFSETFROM:-0600
TZOFFSETTO:-0500
TZNAME:CDT
DTSTART:20250309T080000
END:DAYLIGHT
BEGIN:STANDARD
TZOFFSETFROM:-0500
TZOFFSETTO:-0600
TZNAME:CST
DTSTART:20251102T070000
END:STANDARD
BEGIN:DAYLIGHT
TZOFFSETFROM:-0600
TZOFFSETTO:-0500
TZNAME:CDT
DTSTART:20260308T080000
END:DAYLIGHT
BEGIN:STANDARD
TZOFFSETFROM:-0500
TZOFFSETTO:-0600
TZNAME:CST
DTSTART:20261101T070000
END:STANDARD
BEGIN:DAYLIGHT
TZOFFSETFROM:-0600
TZOFFSETTO:-0500
TZNAME:CDT
DTSTART:20270314T080000
END:DAYLIGHT
BEGIN:STANDARD
TZOFFSETFROM:-0500
TZOFFSETTO:-0600
TZNAME:CST
DTSTART:20271107T070000
END:STANDARD
END:VTIMEZONE
BEGIN:VEVENT
DTSTART;VALUE=DATE:20260407
DTEND;VALUE=DATE:20260408
DTSTAMP:20260422T053651
CREATED:20250310T192132Z
LAST-MODIFIED:20260326T212436Z
UID:22112-1775520000-1775606399@www.prov.ca
SUMMARY:#iSupportProv Annual Day of Giving
DESCRIPTION:On Tuesday\, April 7th\, join us online for our third annual #iSupportProv giving day! It’s an opportunity to share the story of Providence with friends\, family\, and colleagues while supporting the work of Providence. Together\, let’s make a lasting impact! \nOn April 7th… \n\nRecord a short video on your social media account (e.g. “I Support Prov because…”);\nPost a personal story about Providence with the hashtag #iSupportProv;\nShare one of @ProvManitoba’s posts or stories on your channel;\nGive by making a financial gift…DONATE HERE.\n\nLearn more at Prov.ca/iSupportProv.
URL:https://www.prov.ca/event/isupportprov-giving-day/
CATEGORIES:Featured Event,Important Dates
END:VEVENT
END:VCALENDAR