BEGIN:VCALENDAR
VERSION:2.0
PRODID:-//Providence University College and Theological Seminary - ECPv6.15.17.1//NONSGML v1.0//EN
CALSCALE:GREGORIAN
METHOD:PUBLISH
X-WR-CALNAME:Providence University College and Theological Seminary
X-ORIGINAL-URL:https://www.prov.ca
X-WR-CALDESC:Events for Providence University College and Theological Seminary
REFRESH-INTERVAL;VALUE=DURATION:PT1H
X-Robots-Tag:noindex
X-PUBLISHED-TTL:PT1H
BEGIN:VTIMEZONE
TZID:America/Winnipeg
BEGIN:DAYLIGHT
TZOFFSETFROM:-0600
TZOFFSETTO:-0500
TZNAME:CDT
DTSTART:20250309T080000
END:DAYLIGHT
BEGIN:STANDARD
TZOFFSETFROM:-0500
TZOFFSETTO:-0600
TZNAME:CST
DTSTART:20251102T070000
END:STANDARD
BEGIN:DAYLIGHT
TZOFFSETFROM:-0600
TZOFFSETTO:-0500
TZNAME:CDT
DTSTART:20260308T080000
END:DAYLIGHT
BEGIN:STANDARD
TZOFFSETFROM:-0500
TZOFFSETTO:-0600
TZNAME:CST
DTSTART:20261101T070000
END:STANDARD
BEGIN:DAYLIGHT
TZOFFSETFROM:-0600
TZOFFSETTO:-0500
TZNAME:CDT
DTSTART:20270314T080000
END:DAYLIGHT
BEGIN:STANDARD
TZOFFSETFROM:-0500
TZOFFSETTO:-0600
TZNAME:CST
DTSTART:20271107T070000
END:STANDARD
END:VTIMEZONE
BEGIN:VEVENT
DTSTART;TZID=America/Winnipeg:20260512T190000
DTEND;TZID=America/Winnipeg:20260512T210000
DTSTAMP:20260424T055435
CREATED:20260413T141800Z
LAST-MODIFIED:20260414T165141Z
UID:29381-1778612400-1778619600@www.prov.ca
SUMMARY:Free Public Lecture: Meat Consumption
DESCRIPTION:EVENT: Meat Consumption: Are We Eating Like There’s No Tomorrow? \nDESCRIPTION: You’re invited to attend this free public lecture and panel discussion about meats. What are meats? What are some of the nutritional and cultural values of these foods? What are the ecological\, ethical\, and health-related implications of a meat-rich diet? These are some of the questions that will be addressed. Five scholars will apply their research\, experience\, and Christian faith to this complex topic. \nDATE/TIME: Tuesday\, May 12th @ 7-9pm \nLOCATION: South Central Regional Library – Winkler Branch (160 Main Street\, Winkler\, MB) \nSPEAKERS: \n\nOla Abioye (Topic: Meat and Nutrition)\nRebecca Dielschneider (Topic: Meat and Human Health)\nBruce Friesen-Pankratz (Topic: Meat and Ecology)\nKaren Jolly (Topic: Meat and Indigenous Culture)\nMichael Gilmour (Topic: Meat and Biblical Ethics)\n\n[THIS IS A FREE EVENT & NO RESERVATION REQUIRED]
URL:https://www.prov.ca/event/free-public-lecture-meat-consumption/
CATEGORIES:Featured Event
END:VEVENT
END:VCALENDAR